BEGIN:VCALENDAR
VERSION:2.0
PRODID:-//First Unitarian Portland - ECPv6.15.20//NONSGML v1.0//EN
CALSCALE:GREGORIAN
METHOD:PUBLISH
X-ORIGINAL-URL:https://www.firstunitarianportland.org
X-WR-CALDESC:Events for First Unitarian Portland
REFRESH-INTERVAL;VALUE=DURATION:PT1H
X-Robots-Tag:noindex
X-PUBLISHED-TTL:PT1H
BEGIN:VTIMEZONE
TZID:America/Los_Angeles
BEGIN:DAYLIGHT
TZOFFSETFROM:-0800
TZOFFSETTO:-0700
TZNAME:PDT
DTSTART:20240310T100000
END:DAYLIGHT
BEGIN:STANDARD
TZOFFSETFROM:-0700
TZOFFSETTO:-0800
TZNAME:PST
DTSTART:20241103T090000
END:STANDARD
BEGIN:DAYLIGHT
TZOFFSETFROM:-0800
TZOFFSETTO:-0700
TZNAME:PDT
DTSTART:20250309T100000
END:DAYLIGHT
BEGIN:STANDARD
TZOFFSETFROM:-0700
TZOFFSETTO:-0800
TZNAME:PST
DTSTART:20251102T090000
END:STANDARD
BEGIN:DAYLIGHT
TZOFFSETFROM:-0800
TZOFFSETTO:-0700
TZNAME:PDT
DTSTART:20260308T100000
END:DAYLIGHT
BEGIN:STANDARD
TZOFFSETFROM:-0700
TZOFFSETTO:-0800
TZNAME:PST
DTSTART:20261101T090000
END:STANDARD
END:VTIMEZONE
BEGIN:VEVENT
DTSTART;TZID=America/Los_Angeles:20250211T170000
DTEND;TZID=America/Los_Angeles:20250211T183000
DTSTAMP:20260424T171436
CREATED:20241127T214643Z
LAST-MODIFIED:20250317T235517Z
UID:10001308-1739293200-1739298600@www.firstunitarianportland.org
SUMMARY:Finance Committee Meeting
DESCRIPTION:The Board Finance Committee meets on the second Tuesday of most months\, 5 – 6:30 p.m. Meetings are open to congregants. \nClick here to join on Zoom.
URL:https://www.firstunitarianportland.org/event/finance-committee-meeting/2025-02-11/
LOCATION:Virtual
CATEGORIES:Meeting
END:VEVENT
BEGIN:VEVENT
DTSTART;TZID=America/Los_Angeles:20250211T170000
DTEND;TZID=America/Los_Angeles:20250211T183000
DTSTAMP:20260424T171436
CREATED:20250211T205519Z
LAST-MODIFIED:20250211T205615Z
UID:10000916-1739293200-1739298600@www.firstunitarianportland.org
SUMMARY:XL'D/RESCH'D Finance Committee Meeting
DESCRIPTION:Rescheduled to February 25.  (The Board Finance Committee usually meets on the second Tuesday of each month\, 5 – 6:30 p.m.) Meetings are open to congregants. \nClick here to join on Zoom.
URL:https://www.firstunitarianportland.org/event/finance-committee-meeting-2/
LOCATION:Virtual
CATEGORIES:Meeting
END:VEVENT
BEGIN:VEVENT
DTSTART;TZID=America/Los_Angeles:20250211T173000
DTEND;TZID=America/Los_Angeles:20250211T181500
DTSTAMP:20260424T171436
CREATED:20250131T021224Z
LAST-MODIFIED:20250410T230225Z
UID:10001237-1739295000-1739297700@www.firstunitarianportland.org
SUMMARY:Connect & Reflect
DESCRIPTION:Join Rev. Alison Miller and Jen Thomas on the 1st & 3rd Tuesdays of most months through June from 5:30 – 6:15 p.m. on Zoom. Come share in conversation centered on the topic of the most recent sermon. Look for the discussion question during preservice slides and order of service.
URL:https://www.firstunitarianportland.org/event/connect-reflect/2025-02-11/
LOCATION:Virtual
CATEGORIES:Gathering & Connection
END:VEVENT
BEGIN:VEVENT
DTSTART;TZID=America/Los_Angeles:20250211T183000
DTEND;TZID=America/Los_Angeles:20250211T200000
DTSTAMP:20260424T171436
CREATED:20241127T214747Z
LAST-MODIFIED:20241127T233741Z
UID:10000933-1739298600-1739304000@www.firstunitarianportland.org
SUMMARY:Communications Committee Meeting
DESCRIPTION:The Board Communications Committee meets on the second Tuesday of each month\, 6:30 – 8 p.m. Meetings are open to congregants. \nClick here to join on Zoom.
URL:https://www.firstunitarianportland.org/event/communications-committee-meeting/2025-02-11/
LOCATION:Virtual
CATEGORIES:Meeting
END:VEVENT
END:VCALENDAR