BEGIN:VCALENDAR
VERSION:2.0
PRODID:-//First Unitarian Portland - ECPv6.15.20//NONSGML v1.0//EN
CALSCALE:GREGORIAN
METHOD:PUBLISH
X-ORIGINAL-URL:https://www.firstunitarianportland.org
X-WR-CALDESC:Events for First Unitarian Portland
REFRESH-INTERVAL;VALUE=DURATION:PT1H
X-Robots-Tag:noindex
X-PUBLISHED-TTL:PT1H
BEGIN:VTIMEZONE
TZID:America/Los_Angeles
BEGIN:DAYLIGHT
TZOFFSETFROM:-0800
TZOFFSETTO:-0700
TZNAME:PDT
DTSTART:20240310T100000
END:DAYLIGHT
BEGIN:STANDARD
TZOFFSETFROM:-0700
TZOFFSETTO:-0800
TZNAME:PST
DTSTART:20241103T090000
END:STANDARD
BEGIN:DAYLIGHT
TZOFFSETFROM:-0800
TZOFFSETTO:-0700
TZNAME:PDT
DTSTART:20250309T100000
END:DAYLIGHT
BEGIN:STANDARD
TZOFFSETFROM:-0700
TZOFFSETTO:-0800
TZNAME:PST
DTSTART:20251102T090000
END:STANDARD
BEGIN:DAYLIGHT
TZOFFSETFROM:-0800
TZOFFSETTO:-0700
TZNAME:PDT
DTSTART:20260308T100000
END:DAYLIGHT
BEGIN:STANDARD
TZOFFSETFROM:-0700
TZOFFSETTO:-0800
TZNAME:PST
DTSTART:20261101T090000
END:STANDARD
END:VTIMEZONE
BEGIN:VEVENT
DTSTART;TZID=America/Los_Angeles:20250112T101500
DTEND;TZID=America/Los_Angeles:20250112T113000
DTSTAMP:20260424T192454
CREATED:20241127T213504Z
LAST-MODIFIED:20260210T222116Z
UID:10000383-1736676900-1736681400@www.firstunitarianportland.org
SUMMARY:🕯️ Sunday Worship
DESCRIPTION:In-person\nSanctuary\n1211 SW Main St.\nPortland\, OR 97205 \n  \nJoin us on livestream here
URL:https://www.firstunitarianportland.org/event/sunday-worship/2025-01-12/
LOCATION:Main Sanctuary\, 1211 SW Main St\, Portland\, OR\, 97205\, United States
CATEGORIES:Service
END:VEVENT
BEGIN:VEVENT
DTSTART;TZID=America/Los_Angeles:20250112T114500
DTEND;TZID=America/Los_Angeles:20250112T140000
DTSTAMP:20260424T192454
CREATED:20250203T192729Z
LAST-MODIFIED:20250602T223050Z
UID:10001617-1736682300-1736690400@www.firstunitarianportland.org
SUMMARY:Drop-In Parenting Circle
DESCRIPTION:Join the community of parents at First Unitarian and share stories\, wisdom\, and explore spiritual reflection. These circles are great for long-time families and newcomers alike to build community with those who share a parenting journey. Meets the 2nd Sunday of most months from October to May. You are welcome to bring your lunch. Childcare provided. \nFor more info\, check out the flyer.
URL:https://www.firstunitarianportland.org/event/parenting-circle/2025-01-12/
LOCATION:Daisy Bingham Room\, 1011 SW 12th Ave\, Portland\, OR\, 97205
CATEGORIES:Gathering & Connection
END:VEVENT
BEGIN:VEVENT
DTSTART;TZID=America/Los_Angeles:20250112T121500
DTEND;TZID=America/Los_Angeles:20250112T133000
DTSTAMP:20260424T192454
CREATED:20241127T220707Z
LAST-MODIFIED:20250107T000427Z
UID:10001069-1736684100-1736688600@www.firstunitarianportland.org
SUMMARY:Membership Orientation Series: Governance
DESCRIPTION:Join us for an interactive and informative session led by a member of our Governing Board and Jen Thomas. During this orientation\, you will: \n\nLearn about First U PDX’s governance structure.\nExplore the values that guide our decision-making.\nDiscover how you can actively participate in our community.\n\nThis is a great opportunity to ask questions and engage with fellow members! \n  \nRegistration not required! \nKeep an eye out for announcements in the Front Steps E-news and on our website.
URL:https://www.firstunitarianportland.org/event/membership-orientation-series-governance/
LOCATION:OR
CATEGORIES:Gathering & Connection
ORGANIZER;CN="Membership":MAILTO:jthomas@firstunitarianportland.org
END:VEVENT
BEGIN:VEVENT
DTSTART;TZID=America/Los_Angeles:20250112T160000
DTEND;TZID=America/Los_Angeles:20250112T180000
DTSTAMP:20260424T192454
CREATED:20241220T220315Z
LAST-MODIFIED:20250313T010942Z
UID:10001219-1736697600-1736704800@www.firstunitarianportland.org
SUMMARY:*Registration Required* Countering Antisemitism in Our Movements
DESCRIPTION:With the rise of Christian Nationalism in the US and abroad\, overt antisemitism is resurging to fuel these movements. We’ve seen violent attacks on Jews in recent years\, including the murder of congregants worshipping at the Tree of Life synagogue in Pittsburgh and right-wing marchers carrying tiki-torches and yelling anti-Jewish slogans. Antisemitism is real and it is deeply woven into our culture. It is both subtle and overt and has had traumatizing impacts on Jewish communities for generations.\n\nAntisemitism is also confusing\, including when claims of antisemitism are used to divert and divide justice seeking movements or when progressive people perpetuate antisemitic tropes. UU efforts to address the unspeakable violence in Israel and Palestine have activated people’s trauma\, confusion\, and frustration. We believe that in order to act effectively and accountably within our UU communities\, we must understand how antisemitism is present and how we can counter it as we fight for justice and human rights.\n\nIf you’d like to learn alongside us\, we invite you to join us for a two-part in-person program\, taking place on January 12 and January 26. Registration is required. Attendance at the first session is required to join the second session. Read more and register here.
URL:https://www.firstunitarianportland.org/event/countering-antisemitism-in-our-movements/
LOCATION:Buchan Hall\, 1226 SW Salmon St\, Portland\, OR\, 97205\, United States
CATEGORIES:Program/Event,Social Justice
END:VEVENT
END:VCALENDAR